BEGIN:VCALENDAR
VERSION:2.0
PRODID:-//High Level Chamber of Commerce - ECPv6.15.18//NONSGML v1.0//EN
CALSCALE:GREGORIAN
METHOD:PUBLISH
X-WR-CALNAME:High Level Chamber of Commerce
X-ORIGINAL-URL:https://highlevelchamber.com
X-WR-CALDESC:Events for High Level Chamber of Commerce
REFRESH-INTERVAL;VALUE=DURATION:PT1H
X-Robots-Tag:noindex
X-PUBLISHED-TTL:PT1H
BEGIN:VTIMEZONE
TZID:America/Edmonton
BEGIN:DAYLIGHT
TZOFFSETFROM:-0700
TZOFFSETTO:-0600
TZNAME:MDT
DTSTART:20220313T090000
END:DAYLIGHT
BEGIN:STANDARD
TZOFFSETFROM:-0600
TZOFFSETTO:-0700
TZNAME:MST
DTSTART:20221106T080000
END:STANDARD
BEGIN:DAYLIGHT
TZOFFSETFROM:-0700
TZOFFSETTO:-0600
TZNAME:MDT
DTSTART:20230312T090000
END:DAYLIGHT
BEGIN:STANDARD
TZOFFSETFROM:-0600
TZOFFSETTO:-0700
TZNAME:MST
DTSTART:20231105T080000
END:STANDARD
BEGIN:DAYLIGHT
TZOFFSETFROM:-0700
TZOFFSETTO:-0600
TZNAME:MDT
DTSTART:20240310T090000
END:DAYLIGHT
BEGIN:STANDARD
TZOFFSETFROM:-0600
TZOFFSETTO:-0700
TZNAME:MST
DTSTART:20241103T080000
END:STANDARD
END:VTIMEZONE
BEGIN:VEVENT
DTSTART;TZID=America/Edmonton:20230509T190000
DTEND;TZID=America/Edmonton:20230509T210000
DTSTAMP:20260422T160805
CREATED:20230421T001936Z
LAST-MODIFIED:20230421T005323Z
UID:1020-1683658800-1683666000@highlevelchamber.com
SUMMARY:Annual General Meeting 2023
DESCRIPTION:May 9\, 7 p.m. Best Western Mirage Banquet Room \n \nFor more information\, please e-mail info@highlevelchamber.com
URL:https://highlevelchamber.com/event/annual-general-meeting-2023/
LOCATION:Best Western Mirage Banquet Room\, 9616 Highway 58\, High Level\, Alberta\, Canada
END:VEVENT
END:VCALENDAR