BEGIN:VCALENDAR
VERSION:2.0
PRODID:-//High Level Chamber of Commerce - ECPv6.15.18//NONSGML v1.0//EN
CALSCALE:GREGORIAN
METHOD:PUBLISH
X-WR-CALNAME:High Level Chamber of Commerce
X-ORIGINAL-URL:https://highlevelchamber.com
X-WR-CALDESC:Events for High Level Chamber of Commerce
REFRESH-INTERVAL;VALUE=DURATION:PT1H
X-Robots-Tag:noindex
X-PUBLISHED-TTL:PT1H
BEGIN:VTIMEZONE
TZID:America/Edmonton
BEGIN:DAYLIGHT
TZOFFSETFROM:-0700
TZOFFSETTO:-0600
TZNAME:MDT
DTSTART:20210314T090000
END:DAYLIGHT
BEGIN:STANDARD
TZOFFSETFROM:-0600
TZOFFSETTO:-0700
TZNAME:MST
DTSTART:20211107T080000
END:STANDARD
BEGIN:DAYLIGHT
TZOFFSETFROM:-0700
TZOFFSETTO:-0600
TZNAME:MDT
DTSTART:20220313T090000
END:DAYLIGHT
BEGIN:STANDARD
TZOFFSETFROM:-0600
TZOFFSETTO:-0700
TZNAME:MST
DTSTART:20221106T080000
END:STANDARD
BEGIN:DAYLIGHT
TZOFFSETFROM:-0700
TZOFFSETTO:-0600
TZNAME:MDT
DTSTART:20230312T090000
END:DAYLIGHT
BEGIN:STANDARD
TZOFFSETFROM:-0600
TZOFFSETTO:-0700
TZNAME:MST
DTSTART:20231105T080000
END:STANDARD
END:VTIMEZONE
BEGIN:VEVENT
DTSTART;VALUE=DATE:20220120
DTEND;VALUE=DATE:20220122
DTSTAMP:20260423T182057
CREATED:20220119T223407Z
LAST-MODIFIED:20220616T153828Z
UID:723-1642636800-1642809599@highlevelchamber.com
SUMMARY:KFC HIGH LEVEL VIRTUAL JOB FAIR
DESCRIPTION:Need a job? Join KFC High Level for their virtual job fair! \nReach out to them on their Social Media Platforms to arrange a virtual interview. See the link below for more information. \nHIGH LEVEL POSTER
URL:https://highlevelchamber.com/event/kfc-high-level-virtual-job-fair/
END:VEVENT
END:VCALENDAR