BEGIN:VCALENDAR
VERSION:2.0
PRODID:-//High Level Chamber of Commerce - ECPv6.15.18//NONSGML v1.0//EN
CALSCALE:GREGORIAN
METHOD:PUBLISH
X-ORIGINAL-URL:https://highlevelchamber.com
X-WR-CALDESC:Events for High Level Chamber of Commerce
REFRESH-INTERVAL;VALUE=DURATION:PT1H
X-Robots-Tag:noindex
X-PUBLISHED-TTL:PT1H
BEGIN:VTIMEZONE
TZID:America/Edmonton
BEGIN:DAYLIGHT
TZOFFSETFROM:-0700
TZOFFSETTO:-0600
TZNAME:MDT
DTSTART:20250309T090000
END:DAYLIGHT
BEGIN:STANDARD
TZOFFSETFROM:-0600
TZOFFSETTO:-0700
TZNAME:MST
DTSTART:20251102T080000
END:STANDARD
BEGIN:DAYLIGHT
TZOFFSETFROM:-0700
TZOFFSETTO:-0600
TZNAME:MDT
DTSTART:20260308T090000
END:DAYLIGHT
BEGIN:STANDARD
TZOFFSETFROM:-0600
TZOFFSETTO:-0700
TZNAME:MST
DTSTART:20261101T080000
END:STANDARD
BEGIN:DAYLIGHT
TZOFFSETFROM:-0700
TZOFFSETTO:-0600
TZNAME:MDT
DTSTART:20270314T090000
END:DAYLIGHT
BEGIN:STANDARD
TZOFFSETFROM:-0600
TZOFFSETTO:-0700
TZNAME:MST
DTSTART:20271107T080000
END:STANDARD
END:VTIMEZONE
BEGIN:VEVENT
DTSTART;TZID=America/Edmonton:20260408T173000
DTEND;TZID=America/Edmonton:20260408T200000
DTSTAMP:20260425T215559
CREATED:20260402T232049Z
LAST-MODIFIED:20260402T232049Z
UID:2108-1775669400-1775678400@highlevelchamber.com
SUMMARY:Business After 5 - Networking Event
DESCRIPTION:Join us for our next Business After 5 on Wednesday\, April 8\, 2026 at 5:30 PM at the Kamado 101 (9907 100 Ave). \nBusiness After 5 is a bi-monthly networking event hosted by the High Level & District Chamber of Commerce\, rotating through local venues across our community. It’s a relaxed way for business owners\, entrepreneurs\, and community leaders to connect\, share ideas\, and stay in the loop on what’s happening in High Level and the region. \nThis month’s event is hosted at the Kamado 101\, our Business After 5 Venue Sponsor. Interested in hosting a future Business After 5 at your business? Reach out to us — we’d love to chat. \nEvent Details📅 Date: April 8\, 2026⏰ Time: 5:30 PM📍 Location: Kamado 101 – 9907 100 Ave \nWe look forward to seeing you there!
URL:https://highlevelchamber.com/event/business-after-5-networking-event-3/
LOCATION:Kamado 101\, 9907 100 Ave\, High Level\, AB\, T0H1Z0\, Canada
ATTACH;FMTTYPE=image/jpeg:https://highlevelchamber.com/wp-content/uploads/2026/03/1.jpg
ORGANIZER;CN="High Level Chamber of Commerce":MAILTO:info@highlevelchamber.com
END:VEVENT
BEGIN:VEVENT
DTSTART;TZID=America/Edmonton:20260501T160000
DTEND;TZID=America/Edmonton:20260502T160000
DTSTAMP:20260425T215559
CREATED:20260204T162708Z
LAST-MODIFIED:20260401T170734Z
UID:2072-1777651200-1777737600@highlevelchamber.com
SUMMARY:High Level & District Trade Show
DESCRIPTION:Save the date for the 2026 High Level & District Trade Show on May 1–2! We’re working through final details now and will be opening vendor registration soon.If you’d like to be first to know when registration opens\, email info@highlevelchamber.com and we’ll add you to the list.
URL:https://highlevelchamber.com/event/high-level-district-trade-show/
LOCATION:High Level Sports Complex\, 10101 105 Ave.\, High Level\, AB\, T0H 1Z0\, Canada
ATTACH;FMTTYPE=image/jpeg:https://highlevelchamber.com/wp-content/uploads/2026/03/Trade-Show-Poster-4.jpg
ORGANIZER;CN="High Level Chamber of Commerce":MAILTO:info@highlevelchamber.com
END:VEVENT
END:VCALENDAR